BEGIN:VCALENDAR
VERSION:2.0
PRODID:-//Plone.org//NONSGML plone.app.event//EN
X-WR-TIMEZONE:Europe/Madrid
BEGIN:VEVENT
SUMMARY:Setmana de l’Ocupació a Manresa
DTSTART;VALUE=DATE:20260424
DTEND;VALUE=DATE:20260430
DTSTAMP:20260424T235421Z
UID:30bf984e34ce4ace8420291784ed4345@epsem.upc.edu
CONTACT:http://premsa.manresa.cat/web/files/0ba24530a74ec4d066d78dfd2e012b
 24.pdf
CREATED:20260422T070550Z
LAST-MODIFIED:20260422T070739Z
LOCATION:Manresa
URL:https://epsem.upc.edu/ca/esdeveniments/setmana-de-locupacio-a-manresa
END:VEVENT
END:VCALENDAR
