BEGIN:VCALENDAR
VERSION:2.0
PRODID:-//Plone.org//NONSGML plone.app.event//EN
X-WR-TIMEZONE:Europe/Madrid
BEGIN:VEVENT
SUMMARY:Jornada de portes obertes
DTSTART;TZID=Europe/Madrid:20260509T100000
DTSTAMP:20260424T130114Z
UID:d097cea1245e40c7a942f2b1fc5418ae@epsem.upc.edu
CONTACT:https://epsem.upc.edu/ca/estudis/graus/portes-obertes
CREATED:20251217T124916Z
LAST-MODIFIED:20251217T124945Z
URL:https://epsem.upc.edu/ca/esdeveniments/jornada-de-portes-obertes-maig-
 2026
END:VEVENT
BEGIN:VEVENT
SUMMARY:Jornada de portes obertes virtuals
DTSTART;TZID=Europe/Madrid:20260616T160000
DTSTAMP:20260424T130114Z
UID:f0bf6f86523746b0a5e19bcc1a7af520@epsem.upc.edu
CONTACT:https://epsem.upc.edu/ca/estudis/graus/portes-obertes
CREATED:20251217T125244Z
LAST-MODIFIED:20251217T125325Z
URL:https://epsem.upc.edu/ca/esdeveniments/jornada-de-portes-obertes-virtu
 als-16-juny-2026
END:VEVENT
BEGIN:VEVENT
SUMMARY:Jornada de portes obertes virtuals
DTSTART;TZID=Europe/Madrid:20260617T160000
DTSTAMP:20260424T130114Z
UID:f62893c72cc74a02837b8ebc4a7bee62@epsem.upc.edu
CONTACT:https://epsem.upc.edu/ca/estudis/graus/portes-obertes
CREATED:20251217T125431Z
LAST-MODIFIED:20251217T125457Z
URL:https://epsem.upc.edu/ca/esdeveniments/jornada-de-portes-obertes-virtu
 als-17-juny-2026
END:VEVENT
BEGIN:VEVENT
SUMMARY:Sessions informatives de màsters
DTSTART;TZID=Europe/Madrid:20260509T100000
DTSTAMP:20260424T130114Z
UID:36cf23063d3045308e1789ee0dab4f7c@epsem.upc.edu
CONTACT:https://epsem.upc.edu/ca/si-masters
CREATED:20251217T125927Z
LAST-MODIFIED:20251217T125947Z
URL:https://epsem.upc.edu/ca/esdeveniments/sessions-informatives-de-master
 s-maig-2026
END:VEVENT
BEGIN:VEVENT
SUMMARY:Sessions informatives de màsters virtuals
DTSTART;TZID=Europe/Madrid:20260616T170000
DTSTAMP:20260424T130114Z
UID:be1aeaf401594a8fa02382c037b232f5@epsem.upc.edu
CONTACT:https://epsem.upc.edu/ca/si-masters
CREATED:20251217T130145Z
LAST-MODIFIED:20251217T130218Z
URL:https://epsem.upc.edu/ca/esdeveniments/sessions-informatives-de-master
 s-virtuals-16-juny-2026
END:VEVENT
BEGIN:VEVENT
SUMMARY:Sessions informatives de màsters virtuals
DTSTART;TZID=Europe/Madrid:20260617T170000
DTSTAMP:20260424T130114Z
UID:5166c3eb5f84410ba317543a23826ea4@epsem.upc.edu
CONTACT:https://epsem.upc.edu/ca/si-masters
CREATED:20251217T130630Z
LAST-MODIFIED:20251217T130733Z
URL:https://epsem.upc.edu/ca/esdeveniments/sessions-informatives-de-master
 s-virtuals-17-juny-2026
END:VEVENT
BEGIN:VEVENT
SUMMARY:Cloenda 7deMates
DTSTART;TZID=Europe/Madrid:20260425T093000
DTSTAMP:20260424T130114Z
UID:6dd8bd2b8463465295267e48a7861ae5@epsem.upc.edu
CONTACT:https://7demates.upc.edu/
CREATED:20260210T114304Z
LAST-MODIFIED:20260422T071009Z
LOCATION:Museu de l’Aigua i del Tèxtil de Manresa
URL:https://epsem.upc.edu/ca/esdeveniments/7demates-i-anemx-mates-abril
END:VEVENT
BEGIN:VEVENT
SUMMARY:Fòrum Universitat Empresa
DTSTART;TZID=Europe/Madrid:20260506T113000
DTEND;TZID=Europe/Madrid:20260506T163000
DTSTAMP:20260424T130114Z
UID:526d75208aa24c108eb032c3469731e8@epsem.upc.edu
CONTACT:https://epsem.upc.edu/ca/empresa-recerca/forum-universitat-empresa
CREATED:20260415T080149Z
LAST-MODIFIED:20260415T080154Z
LOCATION:Pati UPC Manresa (Avda. de les Bases de Manresa\, 61-73\, Manresa
 )
URL:https://epsem.upc.edu/ca/esdeveniments/forum-universitat-empresa-1
END:VEVENT
BEGIN:VEVENT
SUMMARY:Full de ruta per a la teva carrera: de la universitat al món labo
 ral
DTSTART;TZID=Europe/Madrid:20260430T120000
DTEND;TZID=Europe/Madrid:20260430T140000
DTSTAMP:20260424T130114Z
UID:783dad860fef438baca0ea1cf7251b44@epsem.upc.edu
CONTACT:https://docs.google.com/forms/d/e/1FAIpQLScBSNSGGxMxcrMbbozkiJ4a34
 JN1LxJ2cFtJxX07ZAfJ-GL1w/viewform?pli=1
CREATED:20260416T062508Z
DESCRIPTION:Xerrada "Full de ruta per a la teva carrera: de la universitat
  al món laboral". A càrrec d’Àngels Serrat Buesa de UPC Alumni. Inscr
 ipció requerida a través de l'enllaç adjunt.
LAST-MODIFIED:20260416T094317Z
LOCATION:Aula Màster - UPC Manresa
URL:https://epsem.upc.edu/ca/esdeveniments/full-de-ruta-per-a-la-teva-carr
 era-de-la-universitat-al-mon-laboral
END:VEVENT
BEGIN:VEVENT
SUMMARY:Sessió informativa Pràctiques en Empresa
DTSTART;TZID=Europe/Madrid:20260429T120000
DTEND;TZID=Europe/Madrid:20260429T130000
DTSTAMP:20260424T130114Z
UID:c80ebf3c1b24443d87483dfe1083c95b@epsem.upc.edu
CREATED:20260416T094156Z
DESCRIPTION:Xerrada informativa sobre els convenis de pràctiques en empre
 ses. A càrrec de l'equip de gestió de convenis de la UPC Manresa. No cal
  inscripció prèvia
LAST-MODIFIED:20260416T094202Z
LOCATION:Sala d'Actes - UPC Manresa
URL:https://epsem.upc.edu/ca/esdeveniments/sessio-informativa-practiques-e
 n-empresa
END:VEVENT
BEGIN:VTIMEZONE
TZID:Europe/Madrid
X-LIC-LOCATION:Europe/Madrid
BEGIN:DAYLIGHT
DTSTART:20260329T030000
TZNAME:CEST
TZOFFSETFROM:+0100
TZOFFSETTO:+0200
END:DAYLIGHT
END:VTIMEZONE
END:VCALENDAR
