BEGIN:VCALENDAR
VERSION:2.0
PRODID:-//Plone.org//NONSGML plone.app.event//EN
X-WR-TIMEZONE:Europe/Madrid
BEGIN:VEVENT
SUMMARY:Arduino Day 2019
DTSTART;VALUE=DATE:20190315
DTEND;VALUE=DATE:20190317
DTSTAMP:20260425T014811Z
UID:a7758a3f934a42beb3960408147dd4bb@www.epsem.upc.edu
CONTACT:https://www.epsem.upc.edu/ca/activitats-per-secundaria/arduino-day
 -2019
CREATED:20190215T130545Z
LAST-MODIFIED:20190315T102824Z
LOCATION:UPC Manresa (Av. Bases de Manresa\, 61-73\, Manresa)
URL:https://epsem.upc.edu/ca/esdeveniments/arduino-day-2019
END:VEVENT
END:VCALENDAR
