BEGIN:VCALENDAR
VERSION:2.0
PRODID:-//Plone.org//NONSGML plone.app.event//EN
X-WR-TIMEZONE:Europe/Madrid
BEGIN:VEVENT
SUMMARY:Barcelona Weekend in Group Theory
DTSTART;TZID=Europe/Madrid:20190316T103000
DTEND;TZID=Europe/Madrid:20190316T130000
DTSTAMP:20260425T032105Z
UID:42e00154642a42f3a41feab0a3ec67b7@www.epsem.upc.edu
CREATED:20190313T130200Z
LAST-MODIFIED:20190314T112115Z
LOCATION:Aula 3.1 - UPC Manresa (Av. Bases de Manresa\, 61-73\, Manresa)
URL:https://epsem.upc.edu/ca/esdeveniments/barcelona-weekend
END:VEVENT
BEGIN:VTIMEZONE
TZID:Europe/Madrid
X-LIC-LOCATION:Europe/Madrid
BEGIN:STANDARD
DTSTART:20181028T020000
TZNAME:CET
TZOFFSETFROM:+0200
TZOFFSETTO:+0100
END:STANDARD
END:VTIMEZONE
END:VCALENDAR
