BEGIN:VCALENDAR
VERSION:2.0
PRODID:-//Plone.org//NONSGML plone.app.event//EN
X-WR-TIMEZONE:Europe/Madrid
BEGIN:VEVENT
SUMMARY:Concert 'Temes Sobrevinguts'
DTSTART;TZID=Europe/Madrid:20251119T114500
DTEND;TZID=Europe/Madrid:20251119T121500
DTSTAMP:20260420T152619Z
UID:f49e19ebd815419397b18a284b22843c@epsem.upc.edu
CREATED:20251119T093931Z
LAST-MODIFIED:20251119T093941Z
URL:https://epsem.upc.edu/ca/esdeveniments/concert-temes-sobrevinguts
END:VEVENT
BEGIN:VTIMEZONE
TZID:Europe/Madrid
X-LIC-LOCATION:Europe/Madrid
BEGIN:STANDARD
DTSTART:20251026T020000
TZNAME:CET
TZOFFSETFROM:+0200
TZOFFSETTO:+0100
END:STANDARD
END:VTIMEZONE
END:VCALENDAR
