BEGIN:VCALENDAR
VERSION:2.0
PRODID:-//Plone.org//NONSGML plone.app.event//EN
X-WR-TIMEZONE:Europe/Madrid
BEGIN:VEVENT
SUMMARY:Conferència Antoni Bassas
DTSTART;TZID=Europe/Madrid:20180605T190000
DTSTAMP:20260420T204800Z
UID:ab8bf1fd51014e4486df21c1999e6a35@www.epsem.upc.edu
CONTACT:http://www.covamanresa.cat/ca/actualitat/ponencia-antoni-bassas-di
 marts-5-de-juny
CREATED:20180601T095623Z
LAST-MODIFIED:20180601T095804Z
LOCATION:Cova de Sant Ignasi
URL:https://epsem.upc.edu/ca/esdeveniments/conferencia-antoni-bassas
END:VEVENT
BEGIN:VTIMEZONE
TZID:Europe/Madrid
X-LIC-LOCATION:Europe/Madrid
BEGIN:DAYLIGHT
DTSTART:20180325T030000
TZNAME:CEST
TZOFFSETFROM:+0100
TZOFFSETTO:+0200
END:DAYLIGHT
END:VTIMEZONE
END:VCALENDAR
