BEGIN:VCALENDAR
VERSION:2.0
PRODID:-//Plone.org//NONSGML plone.app.event//EN
X-WR-TIMEZONE:Europe/Madrid
BEGIN:VEVENT
SUMMARY:Despertem joves talents: 75 anys
DTSTART;VALUE=DATE:20190311
DTEND;VALUE=DATE:20190312
DTSTAMP:20260424T212453Z
UID:0b1e7fcbfd494ccab6f9b4c50c836ac1@www.epsem.upc.edu
CREATED:20190315T123901Z
LAST-MODIFIED:20190315T123908Z
URL:https://epsem.upc.edu/ca/esdeveniments/despertem-joves-talents-75-anys
END:VEVENT
END:VCALENDAR
