BEGIN:VCALENDAR
VERSION:2.0
PRODID:-//Plone.org//NONSGML plone.app.event//EN
X-WR-TIMEZONE:Europe/Madrid
BEGIN:VEVENT
SUMMARY:Enllaçant Talent i Indústria
DTSTART;TZID=Europe/Madrid:20190329T120000
DTSTAMP:20260425T015520Z
UID:e9decdd3561f4bb0a31a8518e9468220@www.epsem.upc.edu
CREATED:20190325T130451Z
LAST-MODIFIED:20190325T130545Z
LOCATION:Sala d'actes de la UPC Manresa (Av. Bases de Manresa\, 61-73\, Ma
 nresa)
URL:https://epsem.upc.edu/ca/esdeveniments/enllacant-talent-i-industria
END:VEVENT
BEGIN:VTIMEZONE
TZID:Europe/Madrid
X-LIC-LOCATION:Europe/Madrid
BEGIN:STANDARD
DTSTART:20181028T020000
TZNAME:CET
TZOFFSETFROM:+0200
TZOFFSETTO:+0100
END:STANDARD
END:VTIMEZONE
END:VCALENDAR
