BEGIN:VCALENDAR
VERSION:2.0
PRODID:-//Plone.org//NONSGML plone.app.event//EN
X-WR-TIMEZONE:Europe/Madrid
BEGIN:VEVENT
SUMMARY:Entrega paquet benvinguda Diada Esportiva
DTSTART;TZID=Europe/Madrid:20250401T100000
DTEND;TZID=Europe/Madrid:20250401T173000
DTSTAMP:20260420T092356Z
UID:0020b7efd5174386a4790d49290083b2@epsem.upc.edu
CREATED:20250331T101459Z
LAST-MODIFIED:20250331T110442Z
URL:https://epsem.upc.edu/ca/esdeveniments/entrega-paquet-benvinguda
END:VEVENT
BEGIN:VTIMEZONE
TZID:Europe/Madrid
X-LIC-LOCATION:Europe/Madrid
BEGIN:DAYLIGHT
DTSTART:20250330T030000
TZNAME:CEST
TZOFFSETFROM:+0100
TZOFFSETTO:+0200
END:DAYLIGHT
END:VTIMEZONE
END:VCALENDAR
