BEGIN:VCALENDAR
VERSION:2.0
PRODID:-//Plone.org//NONSGML plone.app.event//EN
X-WR-TIMEZONE:Europe/Madrid
BEGIN:VEVENT
SUMMARY:Fira del Coneixement 2019
DTSTART;VALUE=DATE:20190409
DTEND;VALUE=DATE:20190411
DTSTAMP:20260420T063814Z
UID:0715a25a74a54302a0a42f3e467ced92@www.epsem.upc.edu
CONTACT:https://www.exploratori.org/index.php/component/sppagebuilder/121-
 fira-del-coneixement-2019
CREATED:20190409T133226Z
LAST-MODIFIED:20190409T133307Z
URL:https://epsem.upc.edu/ca/esdeveniments/fira-del-coneixement-2019
END:VEVENT
END:VCALENDAR
