BEGIN:VCALENDAR
VERSION:2.0
PRODID:-//Plone.org//NONSGML plone.app.event//EN
X-WR-TIMEZONE:Europe/Madrid
BEGIN:VEVENT
SUMMARY:IV Diada Cultural
DTSTART;VALUE=DATE:20190411
DTEND;VALUE=DATE:20190412
DTSTAMP:20260420T171441Z
UID:d28bd896320c42958b728abd3866035d@www.epsem.upc.edu
CREATED:20190409T132633Z
LAST-MODIFIED:20190409T132637Z
URL:https://epsem.upc.edu/ca/esdeveniments/iv-diada-cultural
END:VEVENT
END:VCALENDAR
