BEGIN:VCALENDAR
VERSION:2.0
PRODID:-//Plone.org//NONSGML plone.app.event//EN
X-WR-TIMEZONE:Europe/Madrid
BEGIN:VEVENT
SUMMARY:Jocs florals 2024
DTSTART;VALUE=DATE:20240426
DTEND;VALUE=DATE:20240427
DTSTAMP:20260424T204932Z
UID:3698aeb748224e90bbb3c84673723780@epsem.upc.edu
CREATED:20240318T125455Z
LAST-MODIFIED:20240425T104855Z
URL:https://epsem.upc.edu/ca/esdeveniments/jocs-florals-2024
END:VEVENT
END:VCALENDAR
