BEGIN:VCALENDAR
VERSION:2.0
PRODID:-//Plone.org//NONSGML plone.app.event//EN
X-WR-TIMEZONE:Europe/Madrid
BEGIN:VEVENT
SUMMARY:Jornada de presentació ENGIPLANT
DTSTART;TZID=Europe/Madrid:20190214T183000
DTEND;TZID=Europe/Madrid:20190214T193000
DTSTAMP:20260420T115430Z
UID:a6a0f25d97324af8abb730ddb44f1c4f@www.epsem.upc.edu
CONTACT:comunicacio@epsem.upc.edu\, http://www.talent.upc.edu/cat/professi
 onals/presentacio/codi/310202/organitzacio-enginyeria-produccio-direccio-p
 lantes-industrials/
CREATED:20190128T095026Z
LAST-MODIFIED:20190128T122945Z
LOCATION:Sala de juntes de la UPC Manresa (Av. Bases de Manresa\, 61-73\, 
 Manresa)
URL:https://epsem.upc.edu/ca/esdeveniments/jornada-de-presentacio-engiplan
 t
END:VEVENT
BEGIN:VTIMEZONE
TZID:Europe/Madrid
X-LIC-LOCATION:Europe/Madrid
BEGIN:STANDARD
DTSTART:20181028T020000
TZNAME:CET
TZOFFSETFROM:+0200
TZOFFSETTO:+0100
END:STANDARD
END:VTIMEZONE
END:VCALENDAR
