BEGIN:VCALENDAR
VERSION:2.0
PRODID:-//Plone.org//NONSGML plone.app.event//EN
X-WR-TIMEZONE:Europe/Madrid
BEGIN:VEVENT
SUMMARY:Presentació centre TECNIO
DTSTART;TZID=Europe/Madrid:20190327T120000
DTSTAMP:20260424T224125Z
UID:2739d8632fd44fbea2784ae6e351aaa0@www.epsem.upc.edu
CREATED:20190325T131825Z
LAST-MODIFIED:20190325T131829Z
LOCATION:Sala d'actes de la UPC Manresa (Av. Bases de Manresa\, 61-73\, Ma
 nresa)
URL:https://epsem.upc.edu/ca/esdeveniments/presentacio-centre-tecnio
END:VEVENT
BEGIN:VTIMEZONE
TZID:Europe/Madrid
X-LIC-LOCATION:Europe/Madrid
BEGIN:STANDARD
DTSTART:20181028T020000
TZNAME:CET
TZOFFSETFROM:+0200
TZOFFSETTO:+0100
END:STANDARD
END:VTIMEZONE
END:VCALENDAR
