BEGIN:VCALENDAR
VERSION:2.0
PRODID:-//Plone.org//NONSGML plone.app.event//EN
X-WR-TIMEZONE:Europe/Madrid
BEGIN:VEVENT
SUMMARY:Proves Cangur
DTSTART;TZID=Europe/Madrid:20190321T090000
DTSTAMP:20260424T224123Z
UID:ed2ccc26e8654607b594016e6f2f7f05@www.epsem.upc.edu
CREATED:20190314T111410Z
LAST-MODIFIED:20190314T112031Z
LOCATION:UPC Manresa (Av. Bases de Manresa\, 61-73\, Manresa)
URL:https://epsem.upc.edu/ca/esdeveniments/proves-cangur
END:VEVENT
BEGIN:VTIMEZONE
TZID:Europe/Madrid
X-LIC-LOCATION:Europe/Madrid
BEGIN:STANDARD
DTSTART:20181028T020000
TZNAME:CET
TZOFFSETFROM:+0200
TZOFFSETTO:+0100
END:STANDARD
END:VTIMEZONE
END:VCALENDAR
