BEGIN:VCALENDAR
VERSION:2.0
PRODID:-//Plone.org//NONSGML plone.app.event//EN
X-WR-TIMEZONE:Europe/Madrid
BEGIN:VEVENT
SUMMARY:Sessió informativa mobilitat
DTSTART;TZID=Europe/Madrid:20251210T113000
DTSTAMP:20260420T190848Z
UID:0d9474b6a69346f195d4f1f1ea54d7c8@epsem.upc.edu
CONTACT:https://epsem.upc.edu/ca/internacionalitzacio
CREATED:20251124T120012Z
LAST-MODIFIED:20251124T120019Z
LOCATION:Sala d'actes UPC Manresa
URL:https://epsem.upc.edu/ca/esdeveniments/sessio-informativa-mobilitat
END:VEVENT
BEGIN:VTIMEZONE
TZID:Europe/Madrid
X-LIC-LOCATION:Europe/Madrid
BEGIN:STANDARD
DTSTART:20251026T020000
TZNAME:CET
TZOFFSETFROM:+0200
TZOFFSETTO:+0100
END:STANDARD
END:VTIMEZONE
END:VCALENDAR
