BEGIN:VCALENDAR
VERSION:2.0
PRODID:-//Plone.org//NONSGML plone.app.event//EN
X-WR-TIMEZONE:Europe/Madrid
BEGIN:VEVENT
SUMMARY:Xerrada vehicle autònom
DTSTART;VALUE=DATE:20211102
DTEND;VALUE=DATE:20211104
DTSTAMP:20260419T154946Z
UID:8e9d551fc6bc432db4f9b7979d7eac27@www.epsem.upc.edu
CREATED:20211029T192914Z
LAST-MODIFIED:20211103T085837Z
URL:https://epsem.upc.edu/ca/esdeveniments/xerrada-vehicle-autonom
END:VEVENT
END:VCALENDAR
