BEGIN:VCALENDAR
VERSION:2.0
PRODID:-//Plone.org//NONSGML plone.app.event//EN
X-WR-TIMEZONE:Europe/Madrid
BEGIN:VEVENT
SUMMARY:Event sample
DTSTART;TZID=Europe/Madrid:20160203T130000
DTEND;TZID=Europe/Madrid:20161129T130000
DTSTAMP:20260424T070807Z
UID:2d2a9272656f4d85bc123d9380542624@epsem.upc.edu
CONTACT:Event manager\, adreca@noreply.com
CREATED:20160203T122110Z
LAST-MODIFIED:20160203T122111Z
LOCATION:Event place
URL:https://epsem.upc.edu/en/events/event-sample
END:VEVENT
BEGIN:VTIMEZONE
TZID:Europe/Madrid
X-LIC-LOCATION:Europe/Madrid
BEGIN:STANDARD
DTSTART:20151025T020000
TZNAME:CET
TZOFFSETFROM:+0200
TZOFFSETTO:+0100
END:STANDARD
BEGIN:STANDARD
DTSTART:20161030T020000
TZNAME:CET
TZOFFSETFROM:+0200
TZOFFSETTO:+0100
END:STANDARD
END:VTIMEZONE
END:VCALENDAR
