BEGIN:VCALENDAR
VERSION:2.0
PRODID:-//Plone.org//NONSGML plone.app.event//EN
X-WR-TIMEZONE:Europe/Madrid
BEGIN:VEVENT
SUMMARY:Semana de la Ocupación en Manresa
DTSTART;VALUE=DATE:20260424
DTEND;VALUE=DATE:20260430
DTSTAMP:20260424T113842Z
UID:992d14caa6014bfeb70fccda7d945885@epsem.upc.edu
CONTACT:http://premsa.manresa.cat/web/files/0ba24530a74ec4d066d78dfd2e012b
 24.pdf
CREATED:20260422T094854Z
LAST-MODIFIED:20260422T094901Z
LOCATION:Manresa
URL:https://epsem.upc.edu/es/eventos/semana-de-la-ocupacion-en-manresa
END:VEVENT
END:VCALENDAR
