BEGIN:VCALENDAR
VERSION:2.0
PRODID:-//Plone.org//NONSGML plone.app.event//EN
X-WR-TIMEZONE:Europe/Madrid
BEGIN:VEVENT
SUMMARY:Jornada de puertas abiertas
DTSTART;TZID=Europe/Madrid:20260509T100000
DTSTAMP:20260424T174334Z
UID:355c7d96223343cc8cb3a15c5b06bd7d@epsem.upc.edu
CONTACT:https://epsem.upc.edu/es/puertas-abiertas
CREATED:20251217T131721Z
LAST-MODIFIED:20251217T131743Z
URL:https://epsem.upc.edu/es/eventos/jornada-de-puertas-abiertas-mayo-2026
END:VEVENT
BEGIN:VEVENT
SUMMARY:Sesiones informativas de másteres
DTSTART;TZID=Europe/Madrid:20260509T100000
DTSTAMP:20260424T174334Z
UID:90d7576afa5441f8a9480d30c1b0f7fa@epsem.upc.edu
CONTACT:https://epsem.upc.edu/es/sesion-informativa-masteres
CREATED:20251217T131931Z
LAST-MODIFIED:20251217T131954Z
URL:https://epsem.upc.edu/es/eventos/sesiones-informativas-de-masteres-may
 o-2026
END:VEVENT
BEGIN:VEVENT
SUMMARY:Jornada de puertas abiertas virtuales
DTSTART;TZID=Europe/Madrid:20260616T160000
DTSTAMP:20260424T174334Z
UID:5235adc7ffd5413d9434e502d1de8691@epsem.upc.edu
CONTACT:https://epsem.upc.edu/es/puertas-abiertas
CREATED:20251217T132312Z
LAST-MODIFIED:20251217T132336Z
URL:https://epsem.upc.edu/es/eventos/jornada-de-puertas-abiertas-virtuales
 -16-junio-2026
END:VEVENT
BEGIN:VEVENT
SUMMARY:Sesiones informativas de másteres virtuales
DTSTART;TZID=Europe/Madrid:20260616T170000
DTSTAMP:20260424T174334Z
UID:3be421fa60184562a5e762c1d5e0dcd6@epsem.upc.edu
CONTACT:https://epsem.upc.edu/es/sesion-informativa-masteres
CREATED:20251217T132437Z
LAST-MODIFIED:20251217T132500Z
URL:https://epsem.upc.edu/es/eventos/sesiones-informativas-de-masteres-vir
 tuales-16-junio-2026
END:VEVENT
BEGIN:VEVENT
SUMMARY:Jornada de puertas abiertas virtuales
DTSTART;TZID=Europe/Madrid:20260617T160000
DTSTAMP:20260424T174334Z
UID:9e682c379c234f658526609374f7ed8d@epsem.upc.edu
CONTACT:https://epsem.upc.edu/es/puertas-abiertas
CREATED:20251217T132614Z
LAST-MODIFIED:20251217T132701Z
URL:https://epsem.upc.edu/es/eventos/jornada-de-puertas-abiertas-virtuales
 -17-junio-2026
END:VEVENT
BEGIN:VEVENT
SUMMARY:Sesiones informativas de másteres virtuales
DTSTART;TZID=Europe/Madrid:20260617T170000
DTSTAMP:20260424T174334Z
UID:84719255dd0246eea57d28e6b5b52a06@epsem.upc.edu
CONTACT:https://epsem.upc.edu/es/sesion-informativa-masteres
CREATED:20251217T133346Z
LAST-MODIFIED:20251217T133552Z
URL:https://epsem.upc.edu/es/eventos/sesiones-informativas-de-masteres-vir
 tuales-17-junio-2025
END:VEVENT
BEGIN:VEVENT
SUMMARY:Clausura 7deMates
DTSTART;TZID=Europe/Madrid:20260425T093000
DTSTAMP:20260424T174334Z
UID:f47f5f66cf9d4d0ca3a1d6a3c60eb750@epsem.upc.edu
CONTACT:https://7demates.upc.edu/
CREATED:20260210T114349Z
LAST-MODIFIED:20260422T095022Z
LOCATION:Museo del Agua y del Textil de Manresa
URL:https://epsem.upc.edu/es/eventos/7demates-i-anemx-mates-abril
END:VEVENT
BEGIN:VEVENT
SUMMARY:Sesión informativa Prácticas en Empresa
DTSTART;TZID=Europe/Madrid:20260429T120000
DTEND;TZID=Europe/Madrid:20260429T130000
DTSTAMP:20260424T174334Z
UID:9ab3107791a64ec3ae3bec3b0817a357@epsem.upc.edu
CREATED:20260421T150640Z
DESCRIPTION:Charla informativa sobre los convenios de prácticas en empres
 as. A cargo del equipo de gestión de convenios de la UPC Manresa. No es n
 ecesaria inscripción previa.
LAST-MODIFIED:20260421T150645Z
LOCATION:Sala de actos - UPC Manresa
URL:https://epsem.upc.edu/es/eventos/sesion-informativa-practicas-en-empre
 sa
END:VEVENT
BEGIN:VEVENT
SUMMARY:Hoja de ruta para tu carrera: de la universidad al mundo laboral
DTSTART;TZID=Europe/Madrid:20260430T120000
DTEND;TZID=Europe/Madrid:20260430T140000
DTSTAMP:20260424T174334Z
UID:6a87d6062d534d1dad3eebbc6e84640a@epsem.upc.edu
CONTACT:https://docs.google.com/forms/d/e/1FAIpQLScBSNSGGxMxcrMbbozkiJ4a34
 JN1LxJ2cFtJxX07ZAfJ-GL1w/viewform?pli=1
CREATED:20260421T150832Z
DESCRIPTION:Charla "Hoja de ruta para tu carrera: de la universidad al mun
 do laboral". A cargo de Àngels Serrat Buesa de UPC Alumni. Inscripción r
 equerida a través del enlace adjunto.
LAST-MODIFIED:20260421T150841Z
LOCATION:Aula Màster - UPC Manresa
URL:https://epsem.upc.edu/es/eventos/hoja-de-ruta-para-tu-carrera-de-la-un
 iversidad-al-mundo-laboral
END:VEVENT
BEGIN:VEVENT
SUMMARY:Foro Universidad Empresa
DTSTART;TZID=Europe/Madrid:20260506T113000
DTEND;TZID=Europe/Madrid:20260506T163000
DTSTAMP:20260424T174334Z
UID:32ed0df69061465288bfa8835da6f6cf@epsem.upc.edu
CONTACT:https://epsem.upc.edu/es/empresa-e-investigacion/foro-universidad-
 empresa?set_language=es
CREATED:20260421T151055Z
LAST-MODIFIED:20260421T151103Z
LOCATION:Patio UPC Manresa (Avda. de las Bases de Manresa\, 61-73\, Manres
 a)
URL:https://epsem.upc.edu/es/eventos/foro-universidad-empresa
END:VEVENT
BEGIN:VTIMEZONE
TZID:Europe/Madrid
X-LIC-LOCATION:Europe/Madrid
BEGIN:DAYLIGHT
DTSTART:20260329T030000
TZNAME:CEST
TZOFFSETFROM:+0100
TZOFFSETTO:+0200
END:DAYLIGHT
END:VTIMEZONE
END:VCALENDAR
