BEGIN:VCALENDAR
VERSION:2.0
PRODID:-//Plone.org//NONSGML plone.app.event//EN
X-WR-TIMEZONE:Europe/Madrid
BEGIN:VEVENT
SUMMARY:Fiesta de la Primavera
DTSTART;TZID=Europe/Madrid:20260422T100000
DTEND;TZID=Europe/Madrid:20260422T170000
DTSTAMP:20260424T124112Z
UID:bc8462fd917840ec8ff862c59461b187@epsem.upc.edu
CREATED:20260421T150425Z
LAST-MODIFIED:20260421T150430Z
LOCATION:UPC Manresa
URL:https://epsem.upc.edu/es/eventos/fiesta-de-la-primavera
END:VEVENT
BEGIN:VTIMEZONE
TZID:Europe/Madrid
X-LIC-LOCATION:Europe/Madrid
BEGIN:DAYLIGHT
DTSTART:20260329T030000
TZNAME:CEST
TZOFFSETFROM:+0100
TZOFFSETTO:+0200
END:DAYLIGHT
END:VTIMEZONE
END:VCALENDAR
