BEGIN:VCALENDAR
VERSION:2.0
PRODID:-//Plone.org//NONSGML plone.app.event//EN
X-WR-TIMEZONE:Europe/Madrid
BEGIN:VEVENT
SUMMARY:Fira Virtual de Posgrado UPC
DTSTART;VALUE=DATE:20260223
DTEND;VALUE=DATE:20260228
DTSTAMP:20260419T192842Z
UID:ea33b3616271488a96f36b61c65b69de@epsem.upc.edu
CONTACT:https://epsem.upc.edu/es/noticias/la-4-a-feria-virtual-de-posgrado
 -upc-ofrece-mas-de-100-sesiones-online-entre-el-23-y-el-27-de-febrero?set_
 language=es
CREATED:20260216T130512Z
LAST-MODIFIED:20260216T130517Z
URL:https://epsem.upc.edu/es/eventos/fira-virtual-de-posgrado-upc
END:VEVENT
END:VCALENDAR
