BEGIN:VCALENDAR
VERSION:2.0
PRODID:-//Plone.org//NONSGML plone.app.event//EN
X-WR-TIMEZONE:Europe/Madrid
BEGIN:VEVENT
SUMMARY:Jornada Puertas Abiertas
DTSTART;TZID=Europe/Madrid:20240612T160000
DTSTAMP:20260424T111510Z
UID:7f91521ac2dd4c69bff0bb8c6cdc6f8b@epsem.upc.edu
CONTACT:https://epsem.upc.edu/es/puertas-abiertas?set_language=es
CREATED:20240529T061738Z
LAST-MODIFIED:20240529T063324Z
URL:https://epsem.upc.edu/es/eventos/jornada-puertas-abiertas-6
END:VEVENT
BEGIN:VTIMEZONE
TZID:Europe/Madrid
X-LIC-LOCATION:Europe/Madrid
BEGIN:DAYLIGHT
DTSTART:20240331T030000
TZNAME:CEST
TZOFFSETFROM:+0100
TZOFFSETTO:+0200
END:DAYLIGHT
END:VTIMEZONE
END:VCALENDAR
