BEGIN:VCALENDAR
VERSION:2.0
PRODID:-//Plone.org//NONSGML plone.app.event//EN
X-WR-TIMEZONE:Europe/Madrid
BEGIN:VEVENT
SUMMARY:Santa Bàrbara 2025
DTSTART;VALUE=DATE:20251204
DTEND;VALUE=DATE:20251205
DTSTAMP:20260419T222346Z
UID:61a13920777e4fb7a00ecf9ee298fb91@epsem.upc.edu
CONTACT:https://epsem.upc.edu/es/noticias/los-juegos-mineros-2025-reuniran
 -a-la-comunidad-de-la-upc-manresa-en-la-celebracion-de-santa-barbara?set_l
 anguage=es
CREATED:20251201T114235Z
LAST-MODIFIED:20251201T114242Z
URL:https://epsem.upc.edu/es/eventos/santa-barbara-2025
END:VEVENT
END:VCALENDAR
